BEGIN:VCALENDAR
VERSION:2.0
PRODID:-//Plone.org//NONSGML plone.app.event//EN
X-WR-TIMEZONE:Europe/Brussels
BEGIN:VEVENT
SUMMARY:Au Paradis : Atelier d'écriture - 2025-2026
DTSTART;TZID=Europe/Brussels;VALUE=DATE-TIME:20251110T133000
DTEND;TZID=Europe/Brussels;VALUE=DATE-TIME:20260629T160000
DTSTAMP;VALUE=DATE-TIME:20260420T210815Z
UID:dd88bef396b643e685f52a8e4143f275
CREATED;VALUE=DATE-TIME:20250908T150728Z
DESCRIPTION:Rejoignez l'atelier d'écriture animé par Françoise Colmant 
 !
LAST-MODIFIED;VALUE=DATE-TIME:20250908T150821Z
URL:https://culture.unamur.be/agenda-1/au-paradis-atelier-decriture-2025-2
 026
END:VEVENT
BEGIN:VTIMEZONE
TZID:Europe/Brussels
X-LIC-LOCATION:Europe/Brussels
BEGIN:DAYLIGHT
DTSTART;VALUE=DATE-TIME:20260329T030000
TZNAME:CEST
TZOFFSETFROM:+0100
TZOFFSETTO:+0200
END:DAYLIGHT
BEGIN:STANDARD
DTSTART;VALUE=DATE-TIME:20251026T020000
TZNAME:CET
TZOFFSETFROM:+0200
TZOFFSETTO:+0100
END:STANDARD
END:VTIMEZONE
END:VCALENDAR
