BEGIN:VCALENDAR
VERSION:2.0
PRODID:-//Plone.org//NONSGML plone.app.event//EN
X-WR-TIMEZONE:Europe/Brussels
BEGIN:VEVENT
SUMMARY:Les Grandes Conférences Namuroises : Manuela Cadelli
DTSTART;TZID=Europe/Brussels;VALUE=DATE-TIME:20190319T201500
DTEND;TZID=Europe/Brussels;VALUE=DATE-TIME:20190319T220000
DTSTAMP;VALUE=DATE-TIME:20260420T210826Z
UID:e0a2a88199f241e79c008e1068a6290e
CONTACT:Service Culture\, 081/72 42 18 - 081/72 51 73\, culture@unamur.be
CREATED;VALUE=DATE-TIME:20181130T125431Z
DESCRIPTION:La justice : un sport de combat ?
LAST-MODIFIED;VALUE=DATE-TIME:20190214T100439Z
LOCATION:Université de Namur - Amphithéâtre Pedro Arrupe Sentier Thomas
  - 5000 Namur
URL:https://culture.unamur.be/evenements-passes/grandes-conferences-namuro
 ises/copy_of_gcn-mcadelli
END:VEVENT
BEGIN:VTIMEZONE
TZID:Europe/Brussels
X-LIC-LOCATION:Europe/Brussels
BEGIN:STANDARD
DTSTART;VALUE=DATE-TIME:20181028T020000
TZNAME:CET
TZOFFSETFROM:+0200
TZOFFSETTO:+0100
END:STANDARD
END:VTIMEZONE
END:VCALENDAR
