BEGIN:VCALENDAR
VERSION:2.0
PRODID:-//Plone.org//NONSGML plone.app.event//EN
X-WR-TIMEZONE:Europe/Brussels
BEGIN:VEVENT
SUMMARY:GCN #1 - La puissance de l'expression culturelle
DTSTART;TZID=Europe/Brussels;VALUE=DATE-TIME:20231024T190000
DTEND;TZID=Europe/Brussels;VALUE=DATE-TIME:20231024T213000
DTSTAMP;VALUE=DATE-TIME:20260421T010345Z
UID:476813f8b24542b793b9e07f8a756e74
CREATED;VALUE=DATE-TIME:20231009T135209Z
DESCRIPTION:En explorant les facettes de l'expression artistique de trois 
 invités singulièrement différents\, cette conférence propose une réfl
 exion sur la manière dont l'expression culturelle agit en tant que puissa
 nt moteur d'émancipation individuelle et collective.
LAST-MODIFIED;VALUE=DATE-TIME:20231009T135331Z
LOCATION:Théâtre Royal de Namur
URL:https://culture.unamur.be/evenements-passes/grandes-conferences-namuro
 ises/gcn-1-la-puissance-de-lexpression-culturelle
END:VEVENT
BEGIN:VTIMEZONE
TZID:Europe/Brussels
X-LIC-LOCATION:Europe/Brussels
BEGIN:DAYLIGHT
DTSTART;VALUE=DATE-TIME:20230326T030000
TZNAME:CEST
TZOFFSETFROM:+0100
TZOFFSETTO:+0200
END:DAYLIGHT
END:VTIMEZONE
END:VCALENDAR
