BEGIN:VCALENDAR
VERSION:2.0
PRODID:-//Plone.org//NONSGML plone.app.event//EN
X-WR-TIMEZONE:Europe/Brussels
BEGIN:VEVENT
SUMMARY:Les Grandes Conférences Namuroises : Dominique Bourg
DTSTART;TZID=Europe/Brussels;VALUE=DATE-TIME:20190212T201500
DTEND;TZID=Europe/Brussels;VALUE=DATE-TIME:20190212T220000
DTSTAMP;VALUE=DATE-TIME:20260420T210842Z
UID:1b0619149ab24753a186edf0fe033e09
CONTACT:Service Culture\, 081/72 42 18 - 081/72 51 73\, culture@unamur.be
CREATED;VALUE=DATE-TIME:20181130T125431Z
DESCRIPTION:Vivre à l’Anthropocène : sur une planète mécanisée et m
 inéralisée\, ou régénérée et vivante ?
LAST-MODIFIED;VALUE=DATE-TIME:20190701T073434Z
LOCATION:Université de Namur - Amphithéâtre Pedro Arrupe Sentier Thomas
  - 5000 Namur
URL:https://culture.unamur.be/evenements-passes/grandes-conferences-namuro
 ises/gcn-dbourg
END:VEVENT
BEGIN:VTIMEZONE
TZID:Europe/Brussels
X-LIC-LOCATION:Europe/Brussels
BEGIN:STANDARD
DTSTART;VALUE=DATE-TIME:20181028T020000
TZNAME:CET
TZOFFSETFROM:+0200
TZOFFSETTO:+0100
END:STANDARD
END:VTIMEZONE
END:VCALENDAR
