BEGIN:VCALENDAR
VERSION:2.0
PRODID:-//Plone.org//NONSGML plone.app.event//EN
X-WR-TIMEZONE:Europe/Brussels
BEGIN:VEVENT
SUMMARY:Les Grandes Conférences Namuroises : Delphine de Vigan
DTSTART;TZID=Europe/Brussels;VALUE=DATE-TIME:20191017T194500
DTEND;TZID=Europe/Brussels;VALUE=DATE-TIME:20191017T213000
DTSTAMP;VALUE=DATE-TIME:20260420T210826Z
UID:dfcbaaf1607c4ff5a92ffada15d1d1b5
CONTACT:Service Culture\, 081/72 42 18 - 081/72 51 73\, culture@unamur.be
CREATED;VALUE=DATE-TIME:20190613T091608Z
DESCRIPTION:Les Gratitudes. Rencontre.
LAST-MODIFIED;VALUE=DATE-TIME:20190904T103509Z
LOCATION:UNamur - Amphithéâtre Vauban\, rue de l'Arsenal\, 5000 Namur
URL:https://culture.unamur.be/evenements-passes/grandes-conferences-namuro
 ises/gcn-ddevigan
END:VEVENT
BEGIN:VTIMEZONE
TZID:Europe/Brussels
X-LIC-LOCATION:Europe/Brussels
BEGIN:DAYLIGHT
DTSTART;VALUE=DATE-TIME:20190331T030000
TZNAME:CEST
TZOFFSETFROM:+0100
TZOFFSETTO:+0200
END:DAYLIGHT
END:VTIMEZONE
END:VCALENDAR
