BEGIN:VCALENDAR
VERSION:2.0
PRODID:-//Plone.org//NONSGML plone.app.event//EN
X-WR-TIMEZONE:Europe/Brussels
BEGIN:VEVENT
SUMMARY:Les Grandes Conférences Namuroises : Eliane Viennot
DTSTART;TZID=Europe/Brussels;VALUE=DATE-TIME:20191029T194500
DTEND;TZID=Europe/Brussels;VALUE=DATE-TIME:20191029T213000
DTSTAMP;VALUE=DATE-TIME:20260420T210935Z
UID:24efef64075f404abb81081fcd0ca2ba
CONTACT:Service Culture\, 081/72 42 18 - 081/72 51 73\, culture@unamur.be
CREATED;VALUE=DATE-TIME:20190612T124257Z
DESCRIPTION:La langue française est-elle sexiste ? Une analyse\, en humou
 r et en finesse\, de l’histoire de la langue de Voltaire.
LAST-MODIFIED;VALUE=DATE-TIME:20190625T131115Z
LOCATION:UNamur - Amphithéâtre Vauban\, rue de l'Arsenal\, 5000 Namur
URL:https://culture.unamur.be/evenements-passes/grandes-conferences-namuro
 ises/gcn-eviennot
END:VEVENT
BEGIN:VTIMEZONE
TZID:Europe/Brussels
X-LIC-LOCATION:Europe/Brussels
BEGIN:STANDARD
DTSTART;VALUE=DATE-TIME:20191027T020000
TZNAME:CET
TZOFFSETFROM:+0200
TZOFFSETTO:+0100
END:STANDARD
END:VTIMEZONE
END:VCALENDAR
