BEGIN:VCALENDAR
VERSION:2.0
PRODID:-//Plone.org//NONSGML plone.app.event//EN
X-WR-TIMEZONE:Europe/Brussels
BEGIN:VEVENT
SUMMARY:Les Grandes Conférences Namuroises : Gabriel Ringlet
DTSTART;TZID=Europe/Brussels;VALUE=DATE-TIME:20191119T194500
DTEND;TZID=Europe/Brussels;VALUE=DATE-TIME:20191119T213000
DTSTAMP;VALUE=DATE-TIME:20260420T210842Z
UID:fce99629e7ed4c09988b0f3d2450ff8e
CONTACT:Service Culture\, 081/72 42 18 - 081/72 51 73\, culture@unamur.be
CREATED;VALUE=DATE-TIME:20190612T133907Z
DESCRIPTION:Réenchantons les rites. Une réflexion sur les rythmes de la 
 vie.
LAST-MODIFIED;VALUE=DATE-TIME:20190701T073857Z
LOCATION:UNamur - Amphithéâtre Vauban\, rue de l'Arsenal\, 5000 Namur
URL:https://culture.unamur.be/evenements-passes/grandes-conferences-namuro
 ises/gcn-gringlet
END:VEVENT
BEGIN:VTIMEZONE
TZID:Europe/Brussels
X-LIC-LOCATION:Europe/Brussels
BEGIN:STANDARD
DTSTART;VALUE=DATE-TIME:20191027T020000
TZNAME:CET
TZOFFSETFROM:+0200
TZOFFSETTO:+0100
END:STANDARD
END:VTIMEZONE
END:VCALENDAR
