BEGIN:VCALENDAR
VERSION:2.0
PRODID:-//Plone.org//NONSGML plone.app.event//EN
X-WR-TIMEZONE:Europe/Brussels
BEGIN:VEVENT
SUMMARY:Les Grandes Conférences Namuroises : Jean-Philippe Platteau
DTSTART;TZID=Europe/Brussels;VALUE=DATE-TIME:20200421T194500
DTEND;TZID=Europe/Brussels;VALUE=DATE-TIME:20200421T213000
DTSTAMP;VALUE=DATE-TIME:20260420T211003Z
UID:eaab18ed297b42f7a2d4cfff9957dba2
CONTACT:Service Communication\, 081/72 50 32  - 081/72 51 73\, evenements@
 unamur.be
CREATED;VALUE=DATE-TIME:20190613T093557Z
DESCRIPTION:La saison des Grandes Conférences Namuroises se clôturera le
  21 avril 2020 avec la conférence de l’économiste et professeur émér
 ite de l’UNamur Jean-Philippe Platteau. "Religions : les dangers de la m
 anipulation politique" sera le thème de sa présentation qui proposera un
  regard critique sur l’utilisation des religions dans notre société.
LAST-MODIFIED;VALUE=DATE-TIME:20191122T090014Z
LOCATION:UNamur - Amphithéâtre Vauban\, rue de l'Arsenal\, 5000 Namur
URL:https://culture.unamur.be/evenements-passes/grandes-conferences-namuro
 ises/gcn-jpplatteau
END:VEVENT
BEGIN:VTIMEZONE
TZID:Europe/Brussels
X-LIC-LOCATION:Europe/Brussels
BEGIN:DAYLIGHT
DTSTART;VALUE=DATE-TIME:20200329T030000
TZNAME:CEST
TZOFFSETFROM:+0100
TZOFFSETTO:+0200
END:DAYLIGHT
END:VTIMEZONE
END:VCALENDAR
