BEGIN:VCALENDAR
VERSION:2.0
PRODID:-//Plone.org//NONSGML plone.app.event//EN
X-WR-TIMEZONE:Europe/Brussels
BEGIN:VEVENT
SUMMARY:Les Grandes Conférences Namuroises : Matthieu Tordeur
DTSTART;TZID=Europe/Brussels;VALUE=DATE-TIME:20200317T194500
DTEND;TZID=Europe/Brussels;VALUE=DATE-TIME:20200317T213000
DTSTAMP;VALUE=DATE-TIME:20260420T211003Z
UID:9e466059930b463dabfabe5f619939f6
CONTACT:Service Communication\, 081/72 50 32 - 081/72 51 73\, evenements@u
 namur.be
CREATED;VALUE=DATE-TIME:20190612T142714Z
DESCRIPTION:La vie est une aventure audacieuse. Récit de voyage du plus j
 eune explorateur français.
LAST-MODIFIED;VALUE=DATE-TIME:20191122T090053Z
LOCATION:UNamur - Amphithéâtre Vauban\, rue de l'Arsenal\, 5000 Namur
URL:https://culture.unamur.be/evenements-passes/grandes-conferences-namuro
 ises/gcn-mtordeur
END:VEVENT
BEGIN:VTIMEZONE
TZID:Europe/Brussels
X-LIC-LOCATION:Europe/Brussels
BEGIN:STANDARD
DTSTART;VALUE=DATE-TIME:20191027T020000
TZNAME:CET
TZOFFSETFROM:+0200
TZOFFSETTO:+0100
END:STANDARD
END:VTIMEZONE
END:VCALENDAR
