BEGIN:VCALENDAR
VERSION:2.0
PRODID:-//Plone.org//NONSGML plone.app.event//EN
X-WR-TIMEZONE:Europe/Brussels
BEGIN:VEVENT
SUMMARY:Les Grandes Conférences Namuroises : Pascal Chabot
DTSTART;TZID=Europe/Brussels;VALUE=DATE-TIME:20190423T201500
DTEND;TZID=Europe/Brussels;VALUE=DATE-TIME:20190423T220000
DTSTAMP;VALUE=DATE-TIME:20260420T210935Z
UID:ae63511aa75d49ae856101a065f5ce15
CONTACT:Service Culture\, 081/72 42 18 - 081/72 51 73\, culture@unamur.be
CREATED;VALUE=DATE-TIME:20190117T130106Z
DESCRIPTION:Réflexions sur le progrès
LAST-MODIFIED;VALUE=DATE-TIME:20190214T100525Z
LOCATION:Université de Namur - Amphithéâtre Pedro Arrupe Sentier Thomas
  - 5000 Namur
URL:https://culture.unamur.be/evenements-passes/grandes-conferences-namuro
 ises/gcn-pchabot
END:VEVENT
BEGIN:VTIMEZONE
TZID:Europe/Brussels
X-LIC-LOCATION:Europe/Brussels
BEGIN:DAYLIGHT
DTSTART;VALUE=DATE-TIME:20190331T030000
TZNAME:CEST
TZOFFSETFROM:+0100
TZOFFSETTO:+0200
END:DAYLIGHT
END:VTIMEZONE
END:VCALENDAR
