BEGIN:VCALENDAR
VERSION:2.0
PRODID:-//Plone.org//NONSGML plone.app.event//EN
X-WR-TIMEZONE:Europe/Brussels
BEGIN:VEVENT
SUMMARY:GCN | Thomas Gunzig : "Quand la littérature nous donne des nouvel
 les du monde"
DTSTART;TZID=Europe/Brussels;VALUE=DATE-TIME:20230221T194500
DTEND;TZID=Europe/Brussels;VALUE=DATE-TIME:20230221T211500
DTSTAMP;VALUE=DATE-TIME:20260420T211235Z
UID:9c2cd042bc25484dae1a809307b0687c
CONTACT:Julie FRANCOIS\, 081 72 51 70\, gcn@unamur.be\, https://www.billet
 web.fr/gcn-thomas-gunzig-quand-la-litterature-nous-donne-des-nouvelles-du-
 monde
CREATED;VALUE=DATE-TIME:20230124T144037Z
DESCRIPTION:Thomas Gunzig est un touche-à-tout de génie. On le connaît 
 chroniqueur malicieux sur les antennes de la RTBF\, homme de théâtre\, s
 cénariste inspiré au service du cinéma ou de la bande dessinée. Il se 
 murmure même qu'il est un boxeur accompli. Mais Thomas Gunzig est\, surto
 ut\, un grand écrivain\, et l’œuvre qu’il construit occupe une place
  à part dans le monde des lettres belges.
LAST-MODIFIED;VALUE=DATE-TIME:20230124T144110Z
LOCATION:Amphithéâtre Vauban - Boulevard Frère Orban - 5000 Namur
URL:https://culture.unamur.be/evenements-passes/grandes-conferences-namuro
 ises/gcn-thomas-gunzig-quand-la-litterature-nous-donne-des-nouvelles-du-mo
 nde
END:VEVENT
BEGIN:VTIMEZONE
TZID:Europe/Brussels
X-LIC-LOCATION:Europe/Brussels
BEGIN:STANDARD
DTSTART;VALUE=DATE-TIME:20221030T020000
TZNAME:CET
TZOFFSETFROM:+0200
TZOFFSETTO:+0100
END:STANDARD
END:VTIMEZONE
END:VCALENDAR
