BEGIN:VCALENDAR
VERSION:2.0
PRODID:-//Plone.org//NONSGML plone.app.event//EN
X-WR-TIMEZONE:Europe/Brussels
BEGIN:VEVENT
SUMMARY:Les Grandes Conférences Namuroises : Vinciane Despret
DTSTART;TZID=Europe/Brussels;VALUE=DATE-TIME:20200218T194500
DTEND;TZID=Europe/Brussels;VALUE=DATE-TIME:20200218T213000
DTSTAMP;VALUE=DATE-TIME:20260420T211111Z
UID:02f2dae029704eb6b7734aa35e73a804
CONTACT:Service Communication\, 081/72 50 32 - 081/72 51 73\, evenements@u
 namur.be
CREATED;VALUE=DATE-TIME:20190612T144322Z
DESCRIPTION:Ce que les oiseaux nous apprennent des territoires. Démonstra
 tion scientifique et philosophique.
LAST-MODIFIED;VALUE=DATE-TIME:20191122T090132Z
LOCATION:UNamur - Amphithéâtre Vauban\, rue de l'Arsenal\, 5000 Namur
URL:https://culture.unamur.be/evenements-passes/grandes-conferences-namuro
 ises/gcn-vdespret
END:VEVENT
BEGIN:VTIMEZONE
TZID:Europe/Brussels
X-LIC-LOCATION:Europe/Brussels
BEGIN:STANDARD
DTSTART;VALUE=DATE-TIME:20191027T020000
TZNAME:CET
TZOFFSETFROM:+0200
TZOFFSETTO:+0100
END:STANDARD
END:VTIMEZONE
END:VCALENDAR
