BEGIN:VCALENDAR
VERSION:2.0
PRODID:-//Plone.org//NONSGML plone.app.event//EN
X-WR-TIMEZONE:Europe/Brussels
BEGIN:VEVENT
SUMMARY:Grande Conférence Namuroise #2 - Samuel LIETAER
DTSTART;TZID=Europe/Brussels;VALUE=DATE-TIME:20260420T210000
DTEND;TZID=Europe/Brussels;VALUE=DATE-TIME:20260420T220000
DTSTAMP;VALUE=DATE-TIME:20260420T211127Z
UID:8082f948b747433aa45c68327fcab66d
CONTACT:Julie Francois\, julie.francois@unamur.be\, https://www.billetweb.
 fr/gcn-samuel-lietaer-de-la-migration-a-la-mobilisation-quand-le-climat-no
 us-fait-bouger
CREATED;VALUE=DATE-TIME:20221110T134914Z
DESCRIPTION:De la migration à la mobilisation : quand le climat nous fait
  bouger
LAST-MODIFIED;VALUE=DATE-TIME:20221110T134923Z
LOCATION:Auditoire Vauban
URL:https://culture.unamur.be/evenements-passes/grandes-conferences-namuro
 ises/grande-conference-namuroise-2-samuel-lietaer
END:VEVENT
BEGIN:VTIMEZONE
TZID:Europe/Brussels
X-LIC-LOCATION:Europe/Brussels
BEGIN:DAYLIGHT
DTSTART;VALUE=DATE-TIME:20260329T030000
TZNAME:CEST
TZOFFSETFROM:+0100
TZOFFSETTO:+0200
END:DAYLIGHT
END:VTIMEZONE
END:VCALENDAR
