BEGIN:VCALENDAR
VERSION:2.0
PRODID:-//Plone.org//NONSGML plone.app.event//EN
X-WR-TIMEZONE:Europe/Brussels
BEGIN:VEVENT
SUMMARY:Grande Conférence Namuroise : Barbara Stiegler
DTSTART;TZID=Europe/Brussels;VALUE=DATE-TIME:20211026T194500
DTEND;TZID=Europe/Brussels;VALUE=DATE-TIME:20211026T214500
DTSTAMP;VALUE=DATE-TIME:20260420T211009Z
UID:573303a10a73499fa5a4d5b36ce1d7ee
CONTACT:evenements@unamur.be\, https://www.billetweb.fr/gcn-barbara-stiegl
 er
CREATED;VALUE=DATE-TIME:20210907T141328Z
DESCRIPTION:Santé et Démocratie
LAST-MODIFIED;VALUE=DATE-TIME:20211018T104453Z
LOCATION:Amphithéâtre Vauban - Boulevard Frère Orban - 5000 Namur
URL:https://culture.unamur.be/evenements-passes/grandes-conferences-namuro
 ises/grande-conference-namuroise-barbara-stiegler
END:VEVENT
BEGIN:VTIMEZONE
TZID:Europe/Brussels
X-LIC-LOCATION:Europe/Brussels
BEGIN:DAYLIGHT
DTSTART;VALUE=DATE-TIME:20210328T030000
TZNAME:CEST
TZOFFSETFROM:+0100
TZOFFSETTO:+0200
END:DAYLIGHT
END:VTIMEZONE
END:VCALENDAR
