BEGIN:VCALENDAR
VERSION:2.0
PRODID:-//Plone.org//NONSGML plone.app.event//EN
X-WR-TIMEZONE:Europe/Brussels
BEGIN:VEVENT
SUMMARY:Grande Conférence Namuroise : Carola Rackete
DTSTART;TZID=Europe/Brussels;VALUE=DATE-TIME:20210921T194500
DTEND;TZID=Europe/Brussels;VALUE=DATE-TIME:20210921T214500
DTSTAMP;VALUE=DATE-TIME:20260421T010403Z
UID:da692d3df8ca4e8287478ddbb004f2bc
CONTACT:evenements@unamur.be\, https://www.billetweb.fr/gcn-carola-rackete
 -its-time-to-act
CREATED;VALUE=DATE-TIME:20210907T140809Z
DESCRIPTION:It's time to act
LAST-MODIFIED;VALUE=DATE-TIME:20210907T140809Z
LOCATION:Auditoire Pedro Arrupe - Sentier Thomas - 5000 Namur (entrée par
  la rue Grandgagnage)
URL:https://culture.unamur.be/evenements-passes/grandes-conferences-namuro
 ises/grande-conference-namuroise-carola-rackete
END:VEVENT
BEGIN:VTIMEZONE
TZID:Europe/Brussels
X-LIC-LOCATION:Europe/Brussels
BEGIN:DAYLIGHT
DTSTART;VALUE=DATE-TIME:20210328T030000
TZNAME:CEST
TZOFFSETFROM:+0100
TZOFFSETTO:+0200
END:DAYLIGHT
END:VTIMEZONE
END:VCALENDAR
