BEGIN:VCALENDAR
VERSION:2.0
PRODID:-//Plone.org//NONSGML plone.app.event//EN
X-WR-TIMEZONE:Europe/Brussels
BEGIN:VEVENT
SUMMARY:Grande Conférence Namuroise : Corinne Charlier
DTSTART;TZID=Europe/Brussels;VALUE=DATE-TIME:20220329T194500
DTEND;TZID=Europe/Brussels;VALUE=DATE-TIME:20220329T214500
DTSTAMP;VALUE=DATE-TIME:20260420T211137Z
UID:262039307f9740d8bac9e018fe54127a
CONTACT:Annie Piérard\, 081 72 50 32\, evenements@unamur.be\, https://age
 nda.unamur.be/upevent.2021-09-07.9429686294/view
CREATED;VALUE=DATE-TIME:20220321T103911Z
DESCRIPTION:"Perturbateurs endocriniens\, l'épidémie silencieuse"
LAST-MODIFIED;VALUE=DATE-TIME:20220321T103917Z
LOCATION:Amphithéâtre Vauban - Boulevard Frère Orban - 5000 Namur
URL:https://culture.unamur.be/evenements-passes/grandes-conferences-namuro
 ises/grande-conference-namuroise-corinne-charlier
END:VEVENT
BEGIN:VTIMEZONE
TZID:Europe/Brussels
X-LIC-LOCATION:Europe/Brussels
BEGIN:DAYLIGHT
DTSTART;VALUE=DATE-TIME:20220327T030000
TZNAME:CEST
TZOFFSETFROM:+0100
TZOFFSETTO:+0200
END:DAYLIGHT
END:VTIMEZONE
END:VCALENDAR
