BEGIN:VCALENDAR
VERSION:2.0
PRODID:-//Plone.org//NONSGML plone.app.event//EN
X-WR-TIMEZONE:Europe/Brussels
BEGIN:VEVENT
SUMMARY:Grande Conférence Namuroise : Matthieu Tordeur
DTSTART;TZID=Europe/Brussels;VALUE=DATE-TIME:20211130T194500
DTEND;TZID=Europe/Brussels;VALUE=DATE-TIME:20211130T214500
DTSTAMP;VALUE=DATE-TIME:20260420T211109Z
UID:bbd32f5ca69746afb6126250eda7ce2b
CONTACT:evenements@unamur.be\, https://www.billetweb.fr/gcn-matthieu-torde
 ur-la-vie-est-une-aventure-audacieux-ou-elle-nest-rien
CREATED;VALUE=DATE-TIME:20210907T141752Z
DESCRIPTION:La vie est une aventure audacieuse ou elle n'est rien
LAST-MODIFIED;VALUE=DATE-TIME:20210907T141921Z
LOCATION:Amphithéâtre Vauban - Boulevard Frère Orban - 5000 Namur
URL:https://culture.unamur.be/evenements-passes/grandes-conferences-namuro
 ises/grande-conference-namuroise-matthieu-tordeur
END:VEVENT
BEGIN:VTIMEZONE
TZID:Europe/Brussels
X-LIC-LOCATION:Europe/Brussels
BEGIN:STANDARD
DTSTART;VALUE=DATE-TIME:20211031T020000
TZNAME:CET
TZOFFSETFROM:+0200
TZOFFSETTO:+0100
END:STANDARD
END:VTIMEZONE
END:VCALENDAR
