BEGIN:VCALENDAR
VERSION:2.0
PRODID:-//Plone.org//NONSGML plone.app.event//EN
X-WR-TIMEZONE:Europe/Brussels
BEGIN:VEVENT
SUMMARY:Grandes Conférences Namuroises (GCN) | Respiration - Isabelle Mor
 in-Larbey
DTSTART;TZID=Europe/Brussels;VALUE=DATE-TIME:20221206T194500
DTEND;TZID=Europe/Brussels;VALUE=DATE-TIME:20221206T220000
DTSTAMP;VALUE=DATE-TIME:20260420T211338Z
UID:f4458814fcc9474ba401cf2d2120cfca
CONTACT:Julie François\, 081 72 57 70\, gcn@unamur.be\, https://bit.ly/3y
 7XwX5
CREATED;VALUE=DATE-TIME:20221117T143935Z
DESCRIPTION:Venez rencontrer Isabelle Morin-Larbey pour une conférence su
 r le thème "De la respiration au souffle\, un chemin de transformation". 
 La rencontre sera suivie d'un drink
LAST-MODIFIED;VALUE=DATE-TIME:20221117T143945Z
LOCATION:Amphithéâtre Vauban - Boulevard Frère Orban - 5000 Namur
URL:https://culture.unamur.be/evenements-passes/grandes-conferences-namuro
 ises/grandes-conferences-namuroises-gcn-respiration-isabelle-morin-larbey
END:VEVENT
BEGIN:VTIMEZONE
TZID:Europe/Brussels
X-LIC-LOCATION:Europe/Brussels
BEGIN:STANDARD
DTSTART;VALUE=DATE-TIME:20221030T020000
TZNAME:CET
TZOFFSETFROM:+0200
TZOFFSETTO:+0100
END:STANDARD
END:VTIMEZONE
END:VCALENDAR
