BEGIN:VCALENDAR
VERSION:2.0
PRODID:-//Plone.org//NONSGML plone.app.event//EN
X-WR-TIMEZONE:Europe/Brussels
BEGIN:VEVENT
SUMMARY:Grande conférence namuroise - Sebastião Salgado
DTSTART;TZID=Europe/Brussels;VALUE=DATE-TIME:20210505T180000
DTEND;TZID=Europe/Brussels;VALUE=DATE-TIME:20210505T200000
DTSTAMP;VALUE=DATE-TIME:20260420T210814Z
UID:4a5d60506401434cb4a010cc50847fe7
CONTACT:Administration de la Communication\, communication@unamur.be\, htt
 ps://www.youtube.com/watch?v=aLv5zgBk5wg
CREATED;VALUE=DATE-TIME:20210422T154618Z
LAST-MODIFIED;VALUE=DATE-TIME:20210518T145523Z
LOCATION:En ligne
URL:https://culture.unamur.be/evenements-passes/grandes-conferences-namuro
 ises/sebastao-salgado
END:VEVENT
BEGIN:VTIMEZONE
TZID:Europe/Brussels
X-LIC-LOCATION:Europe/Brussels
BEGIN:DAYLIGHT
DTSTART;VALUE=DATE-TIME:20210328T030000
TZNAME:CEST
TZOFFSETFROM:+0100
TZOFFSETTO:+0200
END:DAYLIGHT
END:VTIMEZONE
END:VCALENDAR
